Workbook

Sheet 测机记录
A1: 测机记录：
A2: 当前进度：
A3: 测机人员：
A4: 问题与结论： | B4: 如下(问题；结论)
A5: 序号 | B5: 问题与结论 | C5: 答复与确认
A6: 1
A7: 2
A8: 3
A9: 4
A10: 5
A11: 6
A12: 7
A13: 8
A14: 9
A15: 10
A16: 11
A17: 12
... A20: 15

Sheet 统计
A1: 序号 | B1: 测试模块 | C1: 总数 | D1: OK | E1: NG | F1: 不支持 | G1: 未测试 | H1: 进度 | I1: 备注
A2: =ROW()-1 -> 1 | B2: 通讯测试 | C2: =通讯测试!I38 -> 10 | D2: =通讯测试!H38 -> 0 | H2: =D2/C2 -> 0
A3: =ROW()-1 -> 2 | B3: 流程测试 | C3: =流程测试!I71 -> 22 | D3: =流程测试!H71 -> 0 | H3: =D3/C3 -> 0
A4: =ROW()-1 -> 3 | B4: 功能测试 | C4: =功能测试!F64 -> 40 | D4: =功能测试!E64 -> 0 | H4: =D4/C4 -> 0
A5: =ROW()-1 -> 4 | B5: 异常测试 | C5: =异常测试!F31 -> 14 | D5: =异常测试!E31 -> 0 | H5: =D5/C5 -> 0
A6: 统计 | B6: =COUNTA(B2:B5) -> 4 | C6: =SUM(C2:C5) -> 86 | D6: =SUM(D2:D5) -> 0 | E6: =SUM(E2:E5) -> 0 | F6: =SUM(F2:F5) -> 0 | G6: =SUM(G2:G5) -> 0 | H6: =D6/C6 -> 0

Sheet 设备信息
A1: 序号 | B1: 事项 | C1: 事项值 | D1: 是否确认 | E1: 备注 | G1: ESWIN ID规格
A2: =ROW()-1 -> 1 | B2: Fab | C2: A | G2: Operation ID 7位；
A3: =ROW()-1 -> 2 | B3: ToolID | G3: Product ID 7位；
A4: =ROW()-1 -> 3 | B4: EqpModel | G4: Device ID 11位；
A5: =ROW()-1 -> 4 | B5: EqpType | G5: Lot ID 20位；
A6: =ROW()-1 -> 5 | B6: EAPType | G6: Panel ID 11位；
A7: =ROW()-1 -> 6 | B7: Area | G7: Q-Panel ID 13位；
A8: =ROW()-1 -> 7 | B8: NumberOfPort | G8: Wafer ID 11位；
A9: =ROW()-1 -> 8 | B9: NumberOfEqp | G9: Wafer Lot ID 6位；
A10: =ROW()-1 -> 9 | B10: SMIF整合情况 | G10: Glass ID 12位；
A11: =ROW()-1 -> 10 | B11: RFID Reader整合情况 | G11: Glass Lot ID 8位；
A12: =ROW()-1 -> 11 | B12: Remote IP address | G12: Mask ID 15位；
A13: =ROW()-1 -> 12 | B13: TCP port
A14: =ROW()-1 -> 13 | B14: Device ID
A15: =ROW()-1 -> 14 | B15: MDLN
A16: =ROW()-1 -> 15 | B16: SOFTREV
A17: =ROW()-1 -> 16 | B17: OCR校验方式
A18: =ROW()-1 -> 17 | B18: Recipe校验方式
A19: =ROW()-1 -> 18 | B19: Recipe上传下载方式
A20: =ROW()-1 -> 19 | B20: 是否采集生产数据
A21: =ROW()-1 -> 20 | B21: 是否需要设置EC
A22: =ROW()-1 -> 21 | B22: 是否需要Batch Run
A23: =ROW()-1 -> 22 | B23: 是否支持选片
A24: 统计 | B24: =COUNTA(B2:B23) -> 22 | C24: =COUNTA(C2:C23) -> 1

Sheet 通讯测试
A1: Equipment | C1: EAP | E1: 序号 | F1: 测试项目 | G1: 确认事项 | H1: 测试结果 | I1: 是否必要 | J1: 是否Common | K1: 备注
C2: S1F13 | E2: 1 | F2: Establish Communications | I2: Y
B4: S1F14
C5: S1F1 | E5: 2 | F5: Are you there | I5: Y
B7: S1F2
C8: S2F37(F) | E8: 3 | F8: Disable all event | I8: Y
B10: S2F38
C11: S2F35(空list) | E11: 4 | F11: Unlink report | I11: Y
B13: S2F36
C14: S2F33(空list) | E14: 5 | F14: Delete all report | G14: 机台是否可以恢复默认的link关系？观察 | I14: Y
B16: S2F34
C17: S2F33(RPTID & VID) | E17: 6 | F17: Define report | I17: Y
B19: S2F34
C20: S2F35(CEID & RPTID) | E20: 7 | F20: Link report | I20: Y
B22: S2F36
C23: S2F37(T) | E23: 8 | F23: Enable all event | I23: Y
B25: S2F38
C26: S5F3(80) | E26: 9 | F26: Enable all alarm | I26: Y
B28: S5F4
C29: S2F31 | E29: 10 | F29: Set date and time | G29: 确认时间格式，12位还是16位？ | I29: Y | K29: 16
B31: S5F4
C32: S6F23 | E32: 11 | F32: Request spooled data | I32: N
B34: S6F24
C35: S2F43 | E35: 12 | F35: Disable spool | I35: N
B37: S2F44
E38: 统计 | F38: =COUNTIFS(F2:F36,"*") -> 12 | H38: =COUNTIFS(H2:H37,"OK") -> 0 | I38: =COUNTIFS(I2:I37,"Y") -> 10

Sheet 流程测试
A1: Equipment | C1: EAP | E1: 序号 | F1: 测试项目 | G1: 确认事项 | H1: 测试结果 | I1: 是否必要 | J1: 是否Common | K1: 备注
B2: E87_06_LP_ReadyToLoad_2_TransferBlocked | E2: 1 | F2: Material Arrived(TransferBlock) | I2: Y | J2: N | K2: 特殊机台无ID Read等需求此事件。
C4: S6F12
B5: E87_03_CR_IDNoState_2_IDWFH | E5: 2 | F5: CarrierID Readed | G5: CarrierID格式要求，长度限制等 | I5: Y
C7: S6F12
C8: S1F3_QueryCJSpace | E8: 3 | F8: Query CJ Space | G8: Enable_CheckCJSpace | I8: Y
B10: S1F4
C11: S16F21_QueryPJSpace | E11: 4 | F11: Query PJ Space | G11: Enable_CheckPJSpace | I11: Y
B13: S16F22
C14: S7F19_QueryPPIDList | E14: 5 | F14: Query PPID List | G14: 是否有Scequence- 是否带路径、前后缀- 是否有格式要求、长度限制- | I14: Y
B16: S7F20
C17: S3F17_ProceedWithCarrier | E17: 6 | F17: ProceedWithCarrier | I17: Y | K17: 格式log:
B19: S3F18
B20: E87_14_CR_SmNotRead_2_SmWFH | E20: 7 | F20: Check SlotMap | G20: 1-Empty 3-Exist | I20: Y
C22: S6F12
C23: S3F17_ProceedWithSlotMap | E23: 8 | F23: ProceedWithSlotMap | G23: LotID格式、长度限制 PanelID格式、长度限制 SlotMap格式、长度-最大13片 | I23: Y | K23: 格式log:
B25: S3F18
B26: E87_15_CR_SmWFH_2_SmVerifyOK | E26: 9 | F26: SlotMap Verify OK | I26: Y
C28: S6F12
C29: S16F15_CreateMultiPJ | E29: 10 | F29: Create PJ | G29: 使用S16F11还是S16F15-S16F15 PJID格式、长度限制-无(所有量测和检测设备需要支持定制化的PJ,增加Op&PanelID) | I29: Y | K29: 格式log:
B31: S16F16
B32: E40_01_PJ_NoState_2_Queued | E32: 11 | F32: PJ Queued | I32: Y | K32: dequeue格式log::
C34: S6F12
C35: S14F9_CreateCJ | E35: 12 | F35: Create CJ | G35: CJID格式、长度限制 | I35: Y | K35: 格式log:
B37: S14F10
B38: E94_07_CJ_WFS_2_Executing | E38: 13 | F38: CJ Start | I38: Y | K38: 格式log:
C40: S6F12
B41: E40_04_PJ_SettingUp_2_Proc | E41: 14 | F41: PJ Start | I41: Y | K41: 格式log:
C43: S6F12
B44: OCR_PanelID_Read_OK | E44: 15 | F44: OCR | G44: 确认物料ID来源： | I44: Y
C46: S6F12
B47: E90_11_ST_NeedsProcessing_2_InProcess | E47: 16 | F47: Panel Start | I47: Y | K47: 格式log:
C49: S6F12
B50: E90_12_ST_InProcess_2_ProcessingComplete | E50: 17 | F50: Panel End | G50: 需确认工艺后报，异常推出不能报WaferEnd.(SubstState ：) | I50: Y | K50: 格式log:
C52: S6F12
B53: E40_06_PJ_Proc_2_Complete | E53: 18 | F53: PJ End | I53: Y | K53: 格式log:
C55: S6F12
B56: E94_10_CJ_Executing_2_Completed | E56: 19 | F56: CJ End | I56: Y | K56: 格式log:
C58: S6F12
B59: E87_19_CR_InAccess_2_Complete | E59: 20 | F59: Ready to Release | I59: Y
C61: S6F12
C62: S3F17_CarrierRelease | E62: 21 | F62: CarrierRelease | G62: 是否需要Host下料- | I62: N | K62: 格式log:
B64: S3f18
B65: E87_09_LP_TransferBlocked_2_ReadyToUnload | E65: 22 | F65: Ready to Unload | I65: Y
C67: S6F12
B68: E87_08_LP_TransferBlocked_2_ReadyToLoad | E68: 23 | F68: Material Removed（且ReadyToLoad） | G68: 注意机台信息是否清除了 | I68: Y
C70: S6F12
E71: 统计 | F71: =COUNTIFS(F2:F69,"*") -> 23 | H71: =COUNTIFS(H2:H70,"OK") -> 0 | I71: =COUNTIFS(I2:I70,"Y") -> 22

Sheet 功能测试
A1: 序号 | B1: 测试功能 | C1: 测试项目 | D1: 确认事项 | E1: 测试结果 | F1: 是否必要 | G1: 是否Common | H1: 备注
A2: =ROW()-1 -> 1 | B2: ControlMode | C2: S1F3_QueryControlState | D2: 详细code: | F2: Y
A3: =ROW()-1 -> 2 | C3: 切OnlineRemote事件 | F3: Y | H3: 格式log:
A4: =ROW()-1 -> 3 | C4: 切OnlineLocal事件 | F4: Y | H4: 格式log:
A5: =ROW()-1 -> 4 | C5: 切Offline事件 | F5: Y | H5: 格式log:
A6: =ROW()-1 -> 5 | C6: S1F17_RequestOnline | D6: 是否从Offline默认切至OnlineRemote | F6: Y | H6: 设备端切offline，无法接受指令。Host端切offline，可正常下发
A7: =ROW()-1 -> 6 | C7: S1F15_RequestOffline | D7: 注意切换后状态事件上报 | F7: Y
A8: =ROW()-1 -> 7 | C8: S2F41_GoLocal | D8: 注意切换后状态事件上报 | F8: Y
A9: =ROW()-1 -> 8 | C9: S2F41_GoRemote | D9: 注意切换后状态事件上报 | F9: Y
A10: =ROW()-1 -> 9 | C10: Remote模式操作机台 | D10: 是否可操作机台？ | F10: Y | H10: 工艺设备可切Manual
A11: =ROW()-1 -> 10 | C11: Remote模式手动修改Recipe内容 | D11: 是否可修改Recipe内容？ | F11: Y | H11: Manual模式可改Recipe,作业时无法改recipe
A12: =ROW()-1 -> 11 | B12: ProcessState (EqpState) | C12: S1F3_QueryProcessState | D12: 详细code: | F12: Y | H12: 格式log:
A13: =ROW()-1 -> 12 | C13: S6F11_ProcessState Change | D13: 需要idle run down等符合实际机台切换状态。 | F13: Y | H13: 格式log:
A14: =ROW()-1 -> 13 | B14: SubEqp | C14: S6F11_SubEqpStart | F14: Y
A15: =ROW()-1 -> 14 | C15: S6F11_SubEqpStateChange | F15: Y
A16: =ROW()-1 -> 15 | C16: S6F11_SubEqpEnd | F16: Y
A17: =ROW()-1 -> 16 | B17: Chamber | C17: S6F11_ChamberStart | F17: N
A18: =ROW()-1 -> 17 | C18: S6F12_ChamberStateChange | F18: N
A19: =ROW()-1 -> 18 | C19: S6F11_ChamberEnd | F19: N
A20: =ROW()-1 -> 19 | B20: Unit | C20: S6F11_UnitStart | F20: Y
A21: =ROW()-1 -> 20 | C21: S6F12_UnitStateChange | F21: Y
A22: =ROW()-1 -> 21 | C22: S6F11_UnitEnd | F22: Y
A23: =ROW()-1 -> 22 | B23: 数据采集 | C23: 生产数据 | F23: N
A24: =ROW()-1 -> 23 | C24: 量测数据 | F24: N
A25: =ROW()-1 -> 24 | C25: Trace Data | F25: Y
A26: =ROW()-1 -> 25 | B26: Recipe | C26: 上传下载Sequence | D26: 是否有Sequence？ | F26: Y
A27: =ROW()-1 -> 26 | C27: 是否带前后缀 | D27: 前缀： 后缀：.prcp | F27: Y
A28: =ROW()-1 -> 27 | C28: RecipeName 长度限制 | D28: 不能有长度限制！ | F28: Y
A29: =ROW()-1 -> 28 | C29: 上传Recipe | F29: Y
A30: =ROW()-1 -> 29 | C30: 下载Recipe | F30: Y | H30: (确认：目标程式上传下载且机台能使用)
A31: =ROW()-1 -> 30 | C31: Recipe解析 | D31: RecipeBody解析规则 | F31: Y
A32: =ROW()-1 -> 31 | C32: S7F17_DeleteRecipe | F32: Y
A33: =ROW()-1 -> 32 | C33: S1F3_CurrentRecipe | F33: Y
A34: =ROW()-1 -> 33 | C34: S6F11_RecipeChange | F34: Y
A35: =ROW()-1 -> 34 | B35: Map | C35: 下载WaferMap | D35: 方式： | F35: N
A36: =ROW()-1 -> 35 | C36: 保存WaferMap | D36: 方式： | F36: N
A37: =ROW()-1 -> 36 | C37: 下载PanelMap | D37: 方式： | F37: N
A38: =ROW()-1 -> 37 | C38: 保存PanelMap | D38: 方式： | F38: N
A39: =ROW()-1 -> 38 | C39: 下载StripMap | D39: 方式： | F39: N
A40: =ROW()-1 -> 39 | C40: 保存StripMap | D40: 方式： | F40: N
A41: =ROW()-1 -> 40 | C41: Set BinCode | D41: 方式： | F41: N
A42: =ROW()-1 -> 41 | C42: S6F11_TransferMapReport | F42: N
A43: =ROW()-1 -> 42 | B43: 物料管控 | C43: 物料信息 | F43: N
A44: =ROW()-1 -> 43 | C44: 上料 | F44: N
A45: =ROW()-1 -> 44 | C45: 下料 | F45: N
A46: =ROW()-1 -> 45 | C46: 缺料 | F46: N
A47: =ROW()-1 -> 46 | B47: 跑货测试 | C47: 单个LoadPort跑货 | F47: Y
A48: =ROW()-1 -> 47 | C48: 多个LoadPort同时跑货 | F48: Y
A49: =ROW()-1 -> 48 | C49: 连续跑货 | F49: Y
A50: =ROW()-1 -> 49 | C50: MultiLot跑货 | D50: 必须recipe不同。 | F50: N
A51: =ROW()-1 -> 50 | C51: 不同模式跑货 | F51: N
A52: =ROW()-1 -> 51 | B52: 命令需求测试 | C52: 设备支持吃客制化属性 | D52: Ope,RealPanelID,DeviceID,LotID | F52: N
A53: =ROW()-1 -> 52 | B53: 天车/AGV | C53: S3F27_AccessMode | D53: (例如：0=Auto 1=Manual)注意切换后状态事件上报 详细code: | F53: Y
A54: =ROW()-1 -> 53 | C54: S1F3_PortTransferState | D54: 0=OutOfService 1=TransferBlocked 2=ReadyToLoad 3=ReadyToUnload 4=InService 5=TransferReady 详细code: | F54: Y
A55: =ROW()-1 -> 54 | C55: S6F11_Port_Auto_2_Manual | F55: Y
A56: =ROW()-1 -> 55 | C56: S6F11_Port_Manual_2_Auto | F56: Y
A57: =ROW()-1 -> 56 | C57: S6F11_PortStateChange | F57: Y
A58: =ROW()-1 -> 57 | B58: 其他 | C58: S1F23_QueryAllCEID | F58: N
A59: =ROW()-1 -> 58 | C59: S1F21_QueryAllDVID | F59: N
A60: =ROW()-1 -> 59 | C60: S1F11_QueryAllSVID | F60: Y
A61: =ROW()-1 -> 60 | C61: S2F29_QueryAllECID | F61: Y
A62: =ROW()-1 -> 61 | C62: S2F13_QueryEC | F62: Y
A63: =ROW()-1 -> 62 | C63: S2F15_SetEC | F63: Y
A64: 统计 | B64: =COUNTIFS(B2:B61,"*") -> 13 | C64: =COUNTIFS(C2:C63,"*") -> 62 | E64: =COUNTIFS(E2:E63,"OK") -> 0 | F64: =COUNTIFS(F2:F63,"Y") -> 40

Sheet 异常测试
A1: 序号 | B1: 异常Case | C1: 测试项目 | D1: 确认事项 | E1: 测试结果 | F1: 是否必要 | G1: 是否Common | H1: 备注
A2: =ROW()-1 -> 1 | B2: EAP断连 | C2: 跑货过程中，切Offline | D2: 确认机台作业及数据是否OK | F2: Y
A3: =ROW()-1 -> 2 | C3: 跑货过程中，重启EAP | D3: 哪些步骤需要EAP保存数据？ | F3: Y
A4: =ROW()-1 -> 3 | B4: CancelCarrier | C4: S3F17 CancelCarrierAtPort | F4: N
A5: =ROW()-1 -> 4 | C5: S3F17 CancelCarrier | D5: 注意解锁成功后，机台实际动作状态 | F5: Y
A6: =ROW()-1 -> 5 | B6: DequeueJob | C6: S16F19_Query All PRJobList | F6: Y
A7: =ROW()-1 -> 6 | C7: S16F17_ProcessJobDequeue | F7: Y
A8: =ROW()-1 -> 7 | B8: 锁机/解锁 | C8: S16F27_CJAbort | D8: 确认机台动作 | F8: N
A9: =ROW()-1 -> 8 | C9: S16F27_CJPause | F9: Y
A10: =ROW()-1 -> 9 | C10: S16F27_CJResume | F10: Y
A11: =ROW()-1 -> 10 | C11: S2F41_Stop | D11: 确认机台动作 | F11: N
A12: =ROW()-1 -> 11 | C12: S2F41_Abort | D12: 确认机台动作 | F12: N
A13: =ROW()-1 -> 12 | C13: S2F41_Pause | F13: N
A14: =ROW()-1 -> 13 | C14: S2F41_Resume | F14: N
A15: =ROW()-1 -> 14 | B15: 弹窗提示 | C15: S10F3 | F15: Y
A16: =ROW()-1 -> 15 | B16: OCR Fail | C16: OCR_PanelID_Read_NG | D16: 确认机台动作 | F16: Y
A17: =ROW()-1 -> 16 | C17: OCR_PanelID_Mismatch | D17: 确认机台动作 | F17: Y
A18: =ROW()-1 -> 17 | C18: S2F41_OCRResultNG | D18: 确认机台动作 | F18: N
A19: =ROW()-1 -> 18 | B19: 异常事件 | C19: 拔片事件 | D19: CEID | F19: Y
A20: =ROW()-1 -> 19 | C20: 碎片事件 | D20: CEID | F20: N
A21: =ROW()-1 -> 20 | C21: E40_11_PJ_Exec_2_Stopping | D21: CEID | F21: N
A22: =ROW()-1 -> 21 | C22: E40_12_PJ_Pause_2_Stopping | D22: CEID | F22: N
A23: =ROW()-1 -> 22 | C23: E40_13_PJ_Exec_2_Aborting | D23: CEID | F23: N
A24: =ROW()-1 -> 23 | C24: E40_14_PJ_Stopping_2_Aborting | D24: CEID | F24: N
A25: =ROW()-1 -> 24 | C25: E40_15_PJ_Pause_2_Aborting | D25: CEID | F25: N
A26: =ROW()-1 -> 25 | C26: E94_11_CJ_Stopped_2_Completed | D26: CEID | F26: N
A27: =ROW()-1 -> 26 | C27: E94_12_CJ_Aborted_2_Completed | D27: CEID | F27: N
A28: =ROW()-1 -> 27 | C28: 异常事件后机台动作或事件确认 | F28: Y | H28: 格式log:
A29: =ROW()-1 -> 28 | B29: Alarm | C29: S5F1_SetAlarm | D29: Alarm tx 确认可读： | F29: Y | H29: 格式log:
A30: =ROW()-1 -> 29 | C30: S5F1_ClearAlarm | F30: Y | H30: 格式log:
A31: 统计 | B31: =COUNTIFS(B2:B29,"*") -> 8 | C31: =COUNTIFS(C2:C30,"*") -> 29 | E31: =COUNTIFS(E2:E30,"OK") -> 0 | F31: =COUNTIFS(F2:F30,"Y") -> 14
E32: =COUNTIFS(E2:E30,"NG") -> 0
